BEGIN:VCALENDAR
VERSION:2.0
PRODID:-//SEIKLUSED || Eesti metsikus looduses - ECPv6.15.20//NONSGML v1.0//EN
CALSCALE:GREGORIAN
METHOD:PUBLISH
X-WR-CALNAME:SEIKLUSED || Eesti metsikus looduses
X-ORIGINAL-URL:https://wilderness.ee
X-WR-CALDESC:Events for SEIKLUSED || Eesti metsikus looduses
REFRESH-INTERVAL;VALUE=DURATION:PT1H
X-Robots-Tag:noindex
X-PUBLISHED-TTL:PT1H
BEGIN:VTIMEZONE
TZID:Europe/Tallinn
BEGIN:DAYLIGHT
TZOFFSETFROM:+0200
TZOFFSETTO:+0300
TZNAME:EEST
DTSTART:20240331T010000
END:DAYLIGHT
BEGIN:STANDARD
TZOFFSETFROM:+0300
TZOFFSETTO:+0200
TZNAME:EET
DTSTART:20241027T010000
END:STANDARD
BEGIN:DAYLIGHT
TZOFFSETFROM:+0200
TZOFFSETTO:+0300
TZNAME:EEST
DTSTART:20250330T010000
END:DAYLIGHT
BEGIN:STANDARD
TZOFFSETFROM:+0300
TZOFFSETTO:+0200
TZNAME:EET
DTSTART:20251026T010000
END:STANDARD
BEGIN:DAYLIGHT
TZOFFSETFROM:+0200
TZOFFSETTO:+0300
TZNAME:EEST
DTSTART:20260329T010000
END:DAYLIGHT
BEGIN:STANDARD
TZOFFSETFROM:+0300
TZOFFSETTO:+0200
TZNAME:EET
DTSTART:20261025T010000
END:STANDARD
BEGIN:DAYLIGHT
TZOFFSETFROM:+0200
TZOFFSETTO:+0300
TZNAME:EEST
DTSTART:20270328T010000
END:DAYLIGHT
BEGIN:STANDARD
TZOFFSETFROM:+0300
TZOFFSETTO:+0200
TZNAME:EET
DTSTART:20271031T010000
END:STANDARD
END:VTIMEZONE
BEGIN:VEVENT
DTSTART;VALUE=DATE:20251012
DTEND;VALUE=DATE:20251013
DTSTAMP:20260421T173835
CREATED:20250214T090001Z
LAST-MODIFIED:20250810T193438Z
UID:5184-1760227200-1760313599@wilderness.ee
SUMMARY:Eesti maastiku maraton
DESCRIPTION:
URL:https://wilderness.ee/event/eesti-maastikumaraton/
CATEGORIES:Liikumisüritused
ATTACH;FMTTYPE=image/jpeg:https://wilderness.ee/wp-content/uploads/2023/08/Maastiku3-1-ruut-1.jpg
END:VEVENT
BEGIN:VEVENT
DTSTART;VALUE=DATE:20260111
DTEND;VALUE=DATE:20260112
DTSTAMP:20260421T173835
CREATED:20250214T090146Z
LAST-MODIFIED:20250214T202841Z
UID:5186-1768089600-1768175999@wilderness.ee
SUMMARY:Taliharja vanakuri ultraretk
DESCRIPTION:
URL:https://wilderness.ee/event/taliharja-vanakuri-ultraretk/
CATEGORIES:Liikumisüritused
ATTACH;FMTTYPE=image/jpeg:https://wilderness.ee/wp-content/uploads/2017/12/winter-night-forest-fox-2-1-1.jpeg
END:VEVENT
END:VCALENDAR